BEGIN:VCALENDAR
METHOD:PUBLISH
CALSCALE:GREGORIAN
PRODID:Elbphilharmonie
VERSION:2.0
BEGIN:VTIMEZONE
TZID:Europe/Berlin
BEGIN:DAYLIGHT
TZOFFSETFROM:+0100
TZOFFSETTO:+0200
TZNAME:CEST
DTSTART:20200329T010000
RRULE:FREQ=YEARLY;INTERVAL=1;BYDAY=-1SU;BYMONTH=3
END:DAYLIGHT
BEGIN:STANDARD
TZOFFSETFROM:+0200
TZOFFSETTO:+0100
TZNAME:CET
DTSTART:20201025T010000
RRULE:FREQ=YEARLY;INTERVAL=1;BYDAY=-1SU;BYMONTH=10
END:STANDARD
END:VTIMEZONE
BEGIN:VEVENT
DTSTAMP:20260423T142700Z
DTSTART:20261015T180000Z
DTEND:20261015T200000Z
LOCATION:Elbphilharmonie Großer Saal
SUMMARY:NDR Elbphilharmonie Orchester / Leif Ove Andsnes / Alan Gilbert
DESCRIPTION:Besetzung\nNDR Elbphilharmonie Orchester\nLeif Ove Andsnes: Kl
 avier\nDirigent: Alan Gilbert\n\nProgramm\nJohannes Brahms\nKonzert für K
 lavier und Orchester Nr. 2 B-Dur op. 83\n– Pause – \nClaude Debussy\n
 La mer / Drei sinfonische Skizzen\nMaurice Ravel\nDaphnis et Chloé / Frag
 ments symphoniques\, deuxième série
UID:event27830@Elbphilharmonie.de
URL:https://www.elbphilharmonie.de/de/programm/ndr-elbphilharmonie-orchest
 er-leif-ove-andsnes-alan-gilbert/27830
END:VEVENT
END:VCALENDAR
