BEGIN:VCALENDAR
METHOD:PUBLISH
CALSCALE:GREGORIAN
PRODID:Elbphilharmonie
VERSION:2.0
BEGIN:VTIMEZONE
TZID:Europe/Berlin
BEGIN:DAYLIGHT
TZOFFSETFROM:+0100
TZOFFSETTO:+0200
TZNAME:CEST
DTSTART:20200329T010000
RRULE:FREQ=YEARLY;INTERVAL=1;BYDAY=-1SU;BYMONTH=3
END:DAYLIGHT
BEGIN:STANDARD
TZOFFSETFROM:+0200
TZOFFSETTO:+0100
TZNAME:CET
DTSTART:20201025T010000
RRULE:FREQ=YEARLY;INTERVAL=1;BYDAY=-1SU;BYMONTH=10
END:STANDARD
END:VTIMEZONE
BEGIN:VEVENT
DTSTAMP:20260423T233200Z
DTSTART:20270422T180000Z
DTEND:20270422T200000Z
LOCATION:Elbphilharmonie Großer Saal
SUMMARY:NDR Elbphilharmonie Orchester / Julia Fischer / Juraj Valčuha
DESCRIPTION:Besetzung\nNDR Elbphilharmonie Orchester\nVilde Frang: Violine
 \nDirigent: Juraj Valčuha\n\nProgramm\nBenjamin Britten\nFour Sea Interlu
 des op. 33a / aus der Oper »Peter Grimes«\nBéla Bartók\nKonzert für 
 Violine und Orchester Nr. 2 Sz 112\n– Pause – \nRobert Schumann\nSinfo
 nie Nr. 2 C-Dur op. 61
UID:event27853@Elbphilharmonie.de
URL:https://www.elbphilharmonie.de/de/programm/ndr-elbphilharmonie-orchest
 er-julia-fischer-juraj-valcuha/27853
END:VEVENT
END:VCALENDAR
