BEGIN:VCALENDAR
METHOD:PUBLISH
CALSCALE:GREGORIAN
PRODID:Elbphilharmonie
VERSION:2.0
BEGIN:VTIMEZONE
TZID:Europe/Berlin
BEGIN:DAYLIGHT
TZOFFSETFROM:+0100
TZOFFSETTO:+0200
TZNAME:CEST
DTSTART:20200329T010000
RRULE:FREQ=YEARLY;INTERVAL=1;BYDAY=-1SU;BYMONTH=3
END:DAYLIGHT
BEGIN:STANDARD
TZOFFSETFROM:+0200
TZOFFSETTO:+0100
TZNAME:CET
DTSTART:20201025T010000
RRULE:FREQ=YEARLY;INTERVAL=1;BYDAY=-1SU;BYMONTH=10
END:STANDARD
END:VTIMEZONE
BEGIN:VEVENT
DTSTAMP:20260423T195500Z
DTSTART:20270425T163000Z
DTEND:20270425T173000Z
LOCATION:Elbphilharmonie Großer Saal
SUMMARY:NDR Elbphilharmonie Orchester / Julia Fischer / Juraj Valčuha
DESCRIPTION:Besetzung\nNDR Elbphilharmonie Orchester\nDirigent: Juraj Val
 čuha\n\nProgramm\nBenjamin Britten\nFour Sea Interludes op. 33a / aus de
 r Oper »Peter Grimes«\nRobert Schumann\nSinfonie Nr. 2 C-Dur op. 61
UID:event27852@Elbphilharmonie.de
URL:https://www.elbphilharmonie.de/de/programm/ndr-elbphilharmonie-orchest
 er-julia-fischer-juraj-valcuha/27852
END:VEVENT
END:VCALENDAR
