BEGIN:VCALENDAR
METHOD:PUBLISH
CALSCALE:GREGORIAN
PRODID:Elbphilharmonie
VERSION:2.0
BEGIN:VTIMEZONE
TZID:Europe/Berlin
BEGIN:DAYLIGHT
TZOFFSETFROM:+0100
TZOFFSETTO:+0200
TZNAME:CEST
DTSTART:20200329T010000
RRULE:FREQ=YEARLY;INTERVAL=1;BYDAY=-1SU;BYMONTH=3
END:DAYLIGHT
BEGIN:STANDARD
TZOFFSETFROM:+0200
TZOFFSETTO:+0100
TZNAME:CET
DTSTART:20201025T010000
RRULE:FREQ=YEARLY;INTERVAL=1;BYDAY=-1SU;BYMONTH=10
END:STANDARD
END:VTIMEZONE
BEGIN:VEVENT
DTSTAMP:20260423T202200Z
DTSTART:20270101T170000Z
DTEND:20270101T190000Z
LOCATION:Elbphilharmonie Großer Saal
SUMMARY:NDR Elbphilharmonie Orchester / Josef Špaček / Petr Popelka
DESCRIPTION:Besetzung\nNDR Elbphilharmonie Orchester\nJosef Špaček: Viol
 ine\nDirigent: Petr Popelka\n\nProgramm\nBedřich Smetana\nOuvertüre zu 
 »Die verkaufte Braut« B 143\nJosef Suk\nFantasie für Violine und Orches
 ter op. 24\n– Pause – \nAntonín Dvořák\nVorspiel und Ballettmusik 
 / aus der Oper »Die Teufelskäthe« op. 112\nLeoš Janáček\nSinfoniett
 a für Orchester op. 60
UID:event28388@Elbphilharmonie.de
URL:https://www.elbphilharmonie.de/de/programm/ndr-elbphilharmonie-orchest
 er-josef-spacek-petr-popelka/28388
END:VEVENT
END:VCALENDAR
