BEGIN:VCALENDAR
METHOD:PUBLISH
CALSCALE:GREGORIAN
PRODID:Elbphilharmonie
VERSION:2.0
BEGIN:VTIMEZONE
TZID:Europe/Berlin
BEGIN:DAYLIGHT
TZOFFSETFROM:+0100
TZOFFSETTO:+0200
TZNAME:CEST
DTSTART:20200329T010000
RRULE:FREQ=YEARLY;INTERVAL=1;BYDAY=-1SU;BYMONTH=3
END:DAYLIGHT
BEGIN:STANDARD
TZOFFSETFROM:+0200
TZOFFSETTO:+0100
TZNAME:CET
DTSTART:20201025T010000
RRULE:FREQ=YEARLY;INTERVAL=1;BYDAY=-1SU;BYMONTH=10
END:STANDARD
END:VTIMEZONE
BEGIN:VEVENT
DTSTAMP:20260424T030900Z
DTSTART:20260911T180000Z
DTEND:20260911T195000Z
LOCATION:Elbphilharmonie Großer Saal
SUMMARY:NDR Elbphilharmonie Orchester / Janine Jansen / Alan Gilbert
DESCRIPTION:Besetzung\nNDR Elbphilharmonie Orchester\nJanine Jansen: Violi
 ne\nDirigent: Alan Gilbert\n\nProgramm\nJohn Adams\nLollapalooza\nKarol Sz
 ymanowski\nKonzert für Violine und Orchester Nr. 1 op. 35\n– Pause –
  \nJohannes Brahms\nSinfonie Nr. 1 c-Moll op. 68
UID:event27823@Elbphilharmonie.de
URL:https://www.elbphilharmonie.de/de/programm/ndr-elbphilharmonie-orchest
 er-janine-jansen-alan-gilbert/27823
END:VEVENT
END:VCALENDAR
