BEGIN:VCALENDAR
METHOD:PUBLISH
CALSCALE:GREGORIAN
PRODID:Elbphilharmonie
VERSION:2.0
BEGIN:VTIMEZONE
TZID:Europe/Berlin
BEGIN:DAYLIGHT
TZOFFSETFROM:+0100
TZOFFSETTO:+0200
TZNAME:CEST
DTSTART:20200329T010000
RRULE:FREQ=YEARLY;INTERVAL=1;BYDAY=-1SU;BYMONTH=3
END:DAYLIGHT
BEGIN:STANDARD
TZOFFSETFROM:+0200
TZOFFSETTO:+0100
TZNAME:CET
DTSTART:20201025T010000
RRULE:FREQ=YEARLY;INTERVAL=1;BYDAY=-1SU;BYMONTH=10
END:STANDARD
END:VTIMEZONE
BEGIN:VEVENT
DTSTAMP:20260423T213900Z
DTSTART:20270212T190000Z
DTEND:20270212T203000Z
LOCATION:Elbphilharmonie Großer Saal
SUMMARY:NDR Elbphilharmonie Orchester / Hayato Sumino / Alan Gilbert
DESCRIPTION:Besetzung\nNDR Elbphilharmonie Orchester\nHayato Sumino: Klavi
 er\nDirigent: Alan Gilbert\n\nProgramm\nJohannes Brahms\nAkademische Festo
 uvertüre op. 80\nGeorge Gershwin\nRhapsody in Blue (Fassung für Klavier
  und Orchester)\nJohannes Brahms\nSinfonie Nr. 4 e-Moll op. 98
UID:event27846@Elbphilharmonie.de
URL:https://www.elbphilharmonie.de/de/programm/ndr-elbphilharmonie-orchest
 er-hayato-sumino-alan-gilbert/27846
END:VEVENT
END:VCALENDAR
