BEGIN:VCALENDAR
METHOD:PUBLISH
CALSCALE:GREGORIAN
PRODID:Elbphilharmonie
VERSION:2.0
BEGIN:VTIMEZONE
TZID:Europe/Berlin
BEGIN:DAYLIGHT
TZOFFSETFROM:+0100
TZOFFSETTO:+0200
TZNAME:CEST
DTSTART:20200329T010000
RRULE:FREQ=YEARLY;INTERVAL=1;BYDAY=-1SU;BYMONTH=3
END:DAYLIGHT
BEGIN:STANDARD
TZOFFSETFROM:+0200
TZOFFSETTO:+0100
TZNAME:CET
DTSTART:20201025T010000
RRULE:FREQ=YEARLY;INTERVAL=1;BYDAY=-1SU;BYMONTH=10
END:STANDARD
END:VTIMEZONE
BEGIN:VEVENT
DTSTAMP:20260423T213900Z
DTSTART:20270211T190000Z
DTEND:20270211T203000Z
LOCATION:Elbphilharmonie Großer Saal
SUMMARY:NDR Elbphilharmonie Orchester / Hayato Sumino / Alan Gilbert
DESCRIPTION:Besetzung\nNDR Elbphilharmonie Orchester\nHayato Sumino: Klavi
 er\nDirigent: Alan Gilbert\n\nProgramm\nLudwig van Beethoven\nOuvertüre z
 u »Egmont« op. 84\nGeorge Gershwin\nRhapsody in Blue (Fassung für Klav
 ier und Orchester)\n– Pause – \nAntonín Dvořák\nSinfonie Nr. 9 e-Mo
 ll op. 95 »Aus der Neuen Welt«
UID:event27845@Elbphilharmonie.de
URL:https://www.elbphilharmonie.de/de/programm/ndr-elbphilharmonie-orchest
 er-hayato-sumino-alan-gilbert/27845
END:VEVENT
END:VCALENDAR
