BEGIN:VCALENDAR
METHOD:PUBLISH
CALSCALE:GREGORIAN
PRODID:Elbphilharmonie
VERSION:2.0
BEGIN:VTIMEZONE
TZID:Europe/Berlin
BEGIN:DAYLIGHT
TZOFFSETFROM:+0100
TZOFFSETTO:+0200
TZNAME:CEST
DTSTART:20200329T010000
RRULE:FREQ=YEARLY;INTERVAL=1;BYDAY=-1SU;BYMONTH=3
END:DAYLIGHT
BEGIN:STANDARD
TZOFFSETFROM:+0200
TZOFFSETTO:+0100
TZNAME:CET
DTSTART:20201025T010000
RRULE:FREQ=YEARLY;INTERVAL=1;BYDAY=-1SU;BYMONTH=10
END:STANDARD
END:VTIMEZONE
BEGIN:VEVENT
DTSTAMP:20260423T164500Z
DTSTART:20261008T180000Z
DTEND:20261008T195000Z
LOCATION:Elbphilharmonie Großer Saal
SUMMARY:NDR Elbphilharmonie Orchester / Frank Peter Zimmermann / Alan Gilb
 ert
DESCRIPTION:Besetzung\nNDR Elbphilharmonie Orchester\nFrank Peter Zimmerma
 nn: Violine\nDirigent: Alan Gilbert\n\nProgramm\nMissy Mazzoli\nOrpheus Un
 done\nWilliam Walton\nViolinkonzert\n– Pause – \nWolfgang Amadeus Moza
 rt\nSinfonie C-Dur KV 551 »Jupiter«
UID:event27828@Elbphilharmonie.de
URL:https://www.elbphilharmonie.de/de/programm/ndr-elbphilharmonie-orchest
 er-frank-peter-zimmermann-alan-gilbert/27828
END:VEVENT
END:VCALENDAR
