BEGIN:VCALENDAR
METHOD:PUBLISH
CALSCALE:GREGORIAN
PRODID:Elbphilharmonie
VERSION:2.0
BEGIN:VTIMEZONE
TZID:Europe/Berlin
BEGIN:DAYLIGHT
TZOFFSETFROM:+0100
TZOFFSETTO:+0200
TZNAME:CEST
DTSTART:20200329T010000
RRULE:FREQ=YEARLY;INTERVAL=1;BYDAY=-1SU;BYMONTH=3
END:DAYLIGHT
BEGIN:STANDARD
TZOFFSETFROM:+0200
TZOFFSETTO:+0100
TZNAME:CET
DTSTART:20201025T010000
RRULE:FREQ=YEARLY;INTERVAL=1;BYDAY=-1SU;BYMONTH=10
END:STANDARD
END:VTIMEZONE
BEGIN:VEVENT
DTSTAMP:20260423T213900Z
DTSTART:20261206T100000Z
DTEND:20261206T115000Z
LOCATION:Elbphilharmonie Großer Saal
SUMMARY:NDR Elbphilharmonie Orchester / Francesco Piemontesi / Fabio Luisi
DESCRIPTION:Besetzung\nNDR Elbphilharmonie Orchester\nFrancesco Piemontesi
 : Klavier\nDirigent: Fabio Luisi\n\nProgramm\nAntonín Dvořák\nKonzert f
 ür Klavier und Orchester g-Moll op. 33\n– Pause – \nJohannes Brahms\
 nSinfonie Nr. 4 e-Moll op. 98
UID:event27838@Elbphilharmonie.de
URL:https://www.elbphilharmonie.de/de/programm/ndr-elbphilharmonie-orchest
 er-francesco-piemontesi-fabio-luisi/27838
END:VEVENT
END:VCALENDAR
