BEGIN:VCALENDAR
METHOD:PUBLISH
CALSCALE:GREGORIAN
PRODID:Elbphilharmonie
VERSION:2.0
BEGIN:VTIMEZONE
TZID:Europe/Berlin
BEGIN:DAYLIGHT
TZOFFSETFROM:+0100
TZOFFSETTO:+0200
TZNAME:CEST
DTSTART:20200329T010000
RRULE:FREQ=YEARLY;INTERVAL=1;BYDAY=-1SU;BYMONTH=3
END:DAYLIGHT
BEGIN:STANDARD
TZOFFSETFROM:+0200
TZOFFSETTO:+0100
TZNAME:CET
DTSTART:20201025T010000
RRULE:FREQ=YEARLY;INTERVAL=1;BYDAY=-1SU;BYMONTH=10
END:STANDARD
END:VTIMEZONE
BEGIN:VEVENT
DTSTAMP:20260423T141900Z
DTSTART:20261105T190000Z
DTEND:20261105T210000Z
LOCATION:Elbphilharmonie Großer Saal
SUMMARY:NDR Elbphilharmonie Orchester / Daniel Müller-Schott / Andris Pog
 a
DESCRIPTION:Besetzung\nNDR Elbphilharmonie Orchester\nDaniel Müller-Schot
 t: Violoncello\nDirigent: Andris Poga\n\nProgramm\nSergej Prokofjew\nSinfo
 nisches Konzert für Violoncello und Orchester e-Moll op. 125\n– Pause 
 – \nDmitri Schostakowitsch\nSinfonie Nr. 4 c-Moll op. 43
UID:event27833@Elbphilharmonie.de
URL:https://www.elbphilharmonie.de/de/programm/ndr-elbphilharmonie-orchest
 er-daniel-muller-schott-andris-poga/27833
END:VEVENT
END:VCALENDAR
