BEGIN:VCALENDAR
METHOD:PUBLISH
CALSCALE:GREGORIAN
PRODID:Elbphilharmonie
VERSION:2.0
BEGIN:VTIMEZONE
TZID:Europe/Berlin
BEGIN:DAYLIGHT
TZOFFSETFROM:+0100
TZOFFSETTO:+0200
TZNAME:CEST
DTSTART:20200329T010000
RRULE:FREQ=YEARLY;INTERVAL=1;BYDAY=-1SU;BYMONTH=3
END:DAYLIGHT
BEGIN:STANDARD
TZOFFSETFROM:+0200
TZOFFSETTO:+0100
TZNAME:CET
DTSTART:20201025T010000
RRULE:FREQ=YEARLY;INTERVAL=1;BYDAY=-1SU;BYMONTH=10
END:STANDARD
END:VTIMEZONE
BEGIN:VEVENT
DTSTAMP:20260423T195500Z
DTSTART:20270514T180000Z
DTEND:20270514T194000Z
LOCATION:Elbphilharmonie Großer Saal
SUMMARY:NDR Elbphilharmonie Orchester / Christian Tetzlaff / Pablo Heras-C
 asado
DESCRIPTION:Besetzung\nNDR Elbphilharmonie Orchester\nChristian Tetzlaff: 
 Violine\nDirigent: Pablo Heras-Casado\n\nProgramm\nOndřej Adámek\nThin I
 ce / Konzert für Violine und Orchester Nr. 2\nManuel de Falla\nEl amor br
 ujo (Der Liebeszauber) / Ballett mit Gesang in einem Akt\nMaurice Ravel\nB
 oléro
UID:event27856@Elbphilharmonie.de
URL:https://www.elbphilharmonie.de/de/programm/ndr-elbphilharmonie-orchest
 er-christian-tetzlaff-pablo-heras-casado/27856
END:VEVENT
END:VCALENDAR
