BEGIN:VCALENDAR
METHOD:PUBLISH
CALSCALE:GREGORIAN
PRODID:Elbphilharmonie
VERSION:2.0
BEGIN:VTIMEZONE
TZID:Europe/Berlin
BEGIN:DAYLIGHT
TZOFFSETFROM:+0100
TZOFFSETTO:+0200
TZNAME:CEST
DTSTART:20200329T010000
RRULE:FREQ=YEARLY;INTERVAL=1;BYDAY=-1SU;BYMONTH=3
END:DAYLIGHT
BEGIN:STANDARD
TZOFFSETFROM:+0200
TZOFFSETTO:+0100
TZNAME:CET
DTSTART:20201025T010000
RRULE:FREQ=YEARLY;INTERVAL=1;BYDAY=-1SU;BYMONTH=10
END:STANDARD
END:VTIMEZONE
BEGIN:VEVENT
DTSTAMP:20260423T192100Z
DTSTART:20270604T180000Z
DTEND:20270604T200000Z
LOCATION:Elbphilharmonie Großer Saal
SUMMARY:NDR Elbphilharmonie Orchester / Carolin Widmann / Thomas Guggeis
DESCRIPTION:Besetzung\nNDR Elbphilharmonie Orchester\nNDR Vokalensemble\nC
 arolin Widmann: Violine\nDirigent: Thomas Guggeis\n\nProgramm\nRichard Wag
 ner\nVorspiel zu »Lohengrin« WWV 75\nPeter Ruzicka\nEingedunkelt für Vi
 oline\, Kammerchor und Orchester\n– Pause – \nAnton Bruckner\nSinfonie
  Nr. 7 E-Dur
UID:event27861@Elbphilharmonie.de
URL:https://www.elbphilharmonie.de/de/programm/ndr-elbphilharmonie-orchest
 er-carolin-widmann-thomas-guggeis/27861
END:VEVENT
END:VCALENDAR
