BEGIN:VCALENDAR
METHOD:PUBLISH
CALSCALE:GREGORIAN
PRODID:Elbphilharmonie
VERSION:2.0
BEGIN:VTIMEZONE
TZID:Europe/Berlin
BEGIN:DAYLIGHT
TZOFFSETFROM:+0100
TZOFFSETTO:+0200
TZNAME:CEST
DTSTART:20200329T010000
RRULE:FREQ=YEARLY;INTERVAL=1;BYDAY=-1SU;BYMONTH=3
END:DAYLIGHT
BEGIN:STANDARD
TZOFFSETFROM:+0200
TZOFFSETTO:+0100
TZNAME:CET
DTSTART:20201025T010000
RRULE:FREQ=YEARLY;INTERVAL=1;BYDAY=-1SU;BYMONTH=10
END:STANDARD
END:VTIMEZONE
BEGIN:VEVENT
DTSTAMP:20260423T233300Z
DTSTART:20270507T180000Z
DTEND:20270507T200000Z
LOCATION:Elbphilharmonie Großer Saal
SUMMARY:NDR Elbphilharmonie Orchester / Bertrand Chamayou / Barbara Hannig
 an
DESCRIPTION:Besetzung\nNDR Elbphilharmonie Orchester\nBertrand Chamayou: K
 lavier\nBarbara Hannigan: Sopran und Dirigentin\n\nProgramm\nClaude Debuss
 y\nSyrinx\nJean Sibelius\nLuonnotar / Tondichtung für Sopran und Orcheste
 r op. 70\nAlexander Skrjabin\nProméthée ou Le poème du feu op. 60\n
 – Pause – \nClaude Vivier\nOrion\nFranz Schreker\nNachtstück / aus: D
 er ferne Klang
UID:event27855@Elbphilharmonie.de
URL:https://www.elbphilharmonie.de/de/programm/ndr-elbphilharmonie-orchest
 er-bertrand-chamayou-barbara-hannigan/27855
END:VEVENT
END:VCALENDAR
