BEGIN:VCALENDAR
METHOD:PUBLISH
CALSCALE:GREGORIAN
PRODID:Elbphilharmonie
VERSION:2.0
BEGIN:VTIMEZONE
TZID:Europe/Berlin
BEGIN:DAYLIGHT
TZOFFSETFROM:+0100
TZOFFSETTO:+0200
TZNAME:CEST
DTSTART:20200329T010000
RRULE:FREQ=YEARLY;INTERVAL=1;BYDAY=-1SU;BYMONTH=3
END:DAYLIGHT
BEGIN:STANDARD
TZOFFSETFROM:+0200
TZOFFSETTO:+0100
TZNAME:CET
DTSTART:20201025T010000
RRULE:FREQ=YEARLY;INTERVAL=1;BYDAY=-1SU;BYMONTH=10
END:STANDARD
END:VTIMEZONE
BEGIN:VEVENT
DTSTAMP:20260423T121000Z
DTSTART:20270615T180000Z
DTEND:20270615T200000Z
LOCATION:Elbphilharmonie Großer Saal
SUMMARY:NDR Bigband / Nikki Iles
DESCRIPTION:Besetzung\nNDR Bigband\ndirector: Nikki Iles\n\nProgramm\nNikk
 i Iles\nShifting Tides
UID:event27939@Elbphilharmonie.de
URL:https://www.elbphilharmonie.de/de/programm/ndr-bigband-nikki-iles/2793
 9
END:VEVENT
END:VCALENDAR
