BEGIN:VCALENDAR
METHOD:PUBLISH
CALSCALE:GREGORIAN
PRODID:Elbphilharmonie
VERSION:2.0
BEGIN:VTIMEZONE
TZID:Europe/Berlin
BEGIN:DAYLIGHT
TZOFFSETFROM:+0100
TZOFFSETTO:+0200
TZNAME:CEST
DTSTART:20200329T010000
RRULE:FREQ=YEARLY;INTERVAL=1;BYDAY=-1SU;BYMONTH=3
END:DAYLIGHT
BEGIN:STANDARD
TZOFFSETFROM:+0200
TZOFFSETTO:+0100
TZNAME:CET
DTSTART:20201025T010000
RRULE:FREQ=YEARLY;INTERVAL=1;BYDAY=-1SU;BYMONTH=10
END:STANDARD
END:VTIMEZONE
BEGIN:VEVENT
DTSTAMP:20260423T183100Z
DTSTART:20270221T190000Z
DTEND:20270221T210000Z
LOCATION:Kampnagel K6
SUMMARY:NDR Bigband / Ensemble Resonanz / Nikki Iles
DESCRIPTION:Besetzung\nNDR Bigband\nEnsemble Resonanz\nNorma Winstone: voc
 als\ndirector: Nikki Iles\n\nProgramm\nRalph Towner\nCrossings
UID:event27944@Elbphilharmonie.de
URL:https://www.elbphilharmonie.de/de/programm/ndr-bigband-ensemble-resona
 nz-nikki-iles/27944
END:VEVENT
END:VCALENDAR
