BEGIN:VCALENDAR
METHOD:PUBLISH
CALSCALE:GREGORIAN
PRODID:Elbphilharmonie
VERSION:2.0
BEGIN:VTIMEZONE
TZID:Europe/Berlin
BEGIN:DAYLIGHT
TZOFFSETFROM:+0100
TZOFFSETTO:+0200
TZNAME:CEST
DTSTART:20200329T010000
RRULE:FREQ=YEARLY;INTERVAL=1;BYDAY=-1SU;BYMONTH=3
END:DAYLIGHT
BEGIN:STANDARD
TZOFFSETFROM:+0200
TZOFFSETTO:+0100
TZNAME:CET
DTSTART:20201025T010000
RRULE:FREQ=YEARLY;INTERVAL=1;BYDAY=-1SU;BYMONTH=10
END:STANDARD
END:VTIMEZONE
BEGIN:VEVENT
DTSTAMP:20260423T164400Z
DTSTART:20261129T190000Z
DTEND:20261129T210000Z
LOCATION:Fabrik
SUMMARY:NDR Bigband / Django Bates / Nikki Iles
DESCRIPTION:Besetzung\nNDR Bigband\nDjango Bates: piano\ndirector: Nikki I
 les\n\nProgramm\nDjango Bates\nOde to Joy
UID:event28743@Elbphilharmonie.de
URL:https://www.elbphilharmonie.de/de/programm/ndr-bigband-django-bates-ni
 kki-iles/28743
END:VEVENT
END:VCALENDAR
