BEGIN:VCALENDAR
METHOD:PUBLISH
CALSCALE:GREGORIAN
PRODID:Elbphilharmonie
VERSION:2.0
BEGIN:VTIMEZONE
TZID:Europe/Berlin
BEGIN:DAYLIGHT
TZOFFSETFROM:+0100
TZOFFSETTO:+0200
TZNAME:CEST
DTSTART:20200329T010000
RRULE:FREQ=YEARLY;INTERVAL=1;BYDAY=-1SU;BYMONTH=3
END:DAYLIGHT
BEGIN:STANDARD
TZOFFSETFROM:+0200
TZOFFSETTO:+0100
TZNAME:CET
DTSTART:20201025T010000
RRULE:FREQ=YEARLY;INTERVAL=1;BYDAY=-1SU;BYMONTH=10
END:STANDARD
END:VTIMEZONE
BEGIN:VEVENT
DTSTAMP:20260424T011100Z
DTSTART:20270126T190000Z
DTEND:20270126T205000Z
LOCATION:Elbphilharmonie Großer Saal
SUMMARY:Mahler Chamber Orchestra / Augustin Hadelich
DESCRIPTION:Besetzung\nMahler Chamber Orchestra\nAugustin Hadelich: Violin
 e\n\nProgramm\nWolfgang Amadeus Mozart\nSinfonie A-Dur KV 201\nKonzert fü
 r Violine und Orchester B-Dur KV 207\n– Pause – \nWolfgang Amadeus Moz
 art\nKonzert für Violine und Orchester A-Dur KV 219
UID:event28178@Elbphilharmonie.de
URL:https://www.elbphilharmonie.de/de/programm/mahler-chamber-orchestra-au
 gustin-hadelich/28178
END:VEVENT
END:VCALENDAR
