BEGIN:VCALENDAR
METHOD:PUBLISH
CALSCALE:GREGORIAN
PRODID:Elbphilharmonie
VERSION:2.0
BEGIN:VTIMEZONE
TZID:Europe/Berlin
BEGIN:DAYLIGHT
TZOFFSETFROM:+0100
TZOFFSETTO:+0200
TZNAME:CEST
DTSTART:20200329T010000
RRULE:FREQ=YEARLY;INTERVAL=1;BYDAY=-1SU;BYMONTH=3
END:DAYLIGHT
BEGIN:STANDARD
TZOFFSETFROM:+0200
TZOFFSETTO:+0100
TZNAME:CET
DTSTART:20201025T010000
RRULE:FREQ=YEARLY;INTERVAL=1;BYDAY=-1SU;BYMONTH=10
END:STANDARD
END:VTIMEZONE
BEGIN:VEVENT
DTSTAMP:20260423T121100Z
DTSTART:20270402T160000Z
DTEND:20270402T173000Z
LOCATION:Elbphilharmonie Großer Saal
SUMMARY:Let’s Play Vol. 2
DESCRIPTION:Besetzung\nMahler Chamber Orchestra\nDirigent: Jochen Neuffer\
 nSimone Nowicki: Geräuschemacherin\nStefan Behrisch: Arrangement\n
UID:event28460@Elbphilharmonie.de
URL:https://www.elbphilharmonie.de/de/programm/lets-play-vol-2/28460
END:VEVENT
END:VCALENDAR
