BEGIN:VCALENDAR
METHOD:PUBLISH
CALSCALE:GREGORIAN
PRODID:Elbphilharmonie
VERSION:2.0
BEGIN:VTIMEZONE
TZID:Europe/Berlin
BEGIN:DAYLIGHT
TZOFFSETFROM:+0100
TZOFFSETTO:+0200
TZNAME:CEST
DTSTART:20200329T010000
RRULE:FREQ=YEARLY;INTERVAL=1;BYDAY=-1SU;BYMONTH=3
END:DAYLIGHT
BEGIN:STANDARD
TZOFFSETFROM:+0200
TZOFFSETTO:+0100
TZNAME:CET
DTSTART:20201025T010000
RRULE:FREQ=YEARLY;INTERVAL=1;BYDAY=-1SU;BYMONTH=10
END:STANDARD
END:VTIMEZONE
BEGIN:VEVENT
DTSTAMP:20260424T122300Z
DTSTART:20270313T150000Z
DTEND:20270313T161500Z
LOCATION:Laeiszhalle Kleiner Saal
SUMMARY:Leonhard Baumgartner\, Violine
DESCRIPTION:Besetzung\nLeonhard Baumgartner: Violine\nSofya Erukhimova: Kl
 avier\n\nProgramm\nWolfgang Amadeus Mozart\nSonate für Violine und Klavie
 r e-Moll KV 300c\nAlbert Dietrich\, Robert Schumann\, Johannes Brahms\nInt
 ermezzo (Robert Schumann) & Scherzo (Johannes Brahms) / aus: Sonate für V
 ioline und Klavier »F.A.E.-Sonate«\nRobert Schumann\nFantasie für Violi
 ne und Orchester C-Dur op. 131 / Bearbeitung für Violine und Klavier von
  Fritz Kreisler
UID:event28014@Elbphilharmonie.de
URL:https://www.elbphilharmonie.de/de/programm/leonhard-baumgartner-violin
 e/28014
END:VEVENT
END:VCALENDAR
