BEGIN:VCALENDAR
METHOD:PUBLISH
CALSCALE:GREGORIAN
PRODID:Elbphilharmonie
VERSION:2.0
BEGIN:VTIMEZONE
TZID:Europe/Berlin
BEGIN:DAYLIGHT
TZOFFSETFROM:+0100
TZOFFSETTO:+0200
TZNAME:CEST
DTSTART:20200329T010000
RRULE:FREQ=YEARLY;INTERVAL=1;BYDAY=-1SU;BYMONTH=3
END:DAYLIGHT
BEGIN:STANDARD
TZOFFSETFROM:+0200
TZOFFSETTO:+0100
TZNAME:CET
DTSTART:20201025T010000
RRULE:FREQ=YEARLY;INTERVAL=1;BYDAY=-1SU;BYMONTH=10
END:STANDARD
END:VTIMEZONE
BEGIN:VEVENT
DTSTAMP:20260423T121000Z
DTSTART:20270415T180000Z
DTEND:20270415T194000Z
LOCATION:Elbphilharmonie Großer Saal
SUMMARY:Leif Ove Andsnes / Klavierabend
DESCRIPTION:Besetzung\nLeif Ove Andsnes: Klavier\n\nProgramm\nLudwig van B
 eethoven\nSonate für Klavier E-Dur op. 109\nSonate für Klavier As-Dur o
 p. 110\n– Pause – \nLudwig van Beethoven\nSonate für Klavier c-Moll 
 op. 111
UID:event28035@Elbphilharmonie.de
URL:https://www.elbphilharmonie.de/de/programm/leif-ove-andsnes-klavierabe
 nd/28035
END:VEVENT
END:VCALENDAR
