BEGIN:VCALENDAR
METHOD:PUBLISH
CALSCALE:GREGORIAN
PRODID:Elbphilharmonie
VERSION:2.0
BEGIN:VTIMEZONE
TZID:Europe/Berlin
BEGIN:DAYLIGHT
TZOFFSETFROM:+0100
TZOFFSETTO:+0200
TZNAME:CEST
DTSTART:20200329T010000
RRULE:FREQ=YEARLY;INTERVAL=1;BYDAY=-1SU;BYMONTH=3
END:DAYLIGHT
BEGIN:STANDARD
TZOFFSETFROM:+0200
TZOFFSETTO:+0100
TZNAME:CET
DTSTART:20201025T010000
RRULE:FREQ=YEARLY;INTERVAL=1;BYDAY=-1SU;BYMONTH=10
END:STANDARD
END:VTIMEZONE
BEGIN:VEVENT
DTSTAMP:20260424T011100Z
DTSTART:20270421T180000Z
DTEND:20270421T203000Z
LOCATION:Elbphilharmonie Großer Saal
SUMMARY:Le Concert Olympique / Kit Armstrong / Jan Caeyers
DESCRIPTION:Besetzung\nLe Concert Olympique\nKit Armstrong: Klavier\nDirig
 ent: Jan Caeyers\n\nProgramm\nLudwig van Beethoven\nDie Geschöpfe des Pro
 metheus op. 43\n15 Variationen mit Fuge über ein eigenes Thema Es-Dur op
 . 35 »Eroica-Variationen«\nFinale. Allegro molto / aus: Sinfonie Nr. 3 
 Es-Dur op. 55 »Eroica«
UID:event28281@Elbphilharmonie.de
URL:https://www.elbphilharmonie.de/de/programm/le-concert-olympique-kit-ar
 mstrong-jan-caeyers/28281
END:VEVENT
END:VCALENDAR
