BEGIN:VCALENDAR
METHOD:PUBLISH
CALSCALE:GREGORIAN
PRODID:Elbphilharmonie
VERSION:2.0
BEGIN:VTIMEZONE
TZID:Europe/Berlin
BEGIN:DAYLIGHT
TZOFFSETFROM:+0100
TZOFFSETTO:+0200
TZNAME:CEST
DTSTART:20200329T010000
RRULE:FREQ=YEARLY;INTERVAL=1;BYDAY=-1SU;BYMONTH=3
END:DAYLIGHT
BEGIN:STANDARD
TZOFFSETFROM:+0200
TZOFFSETTO:+0100
TZNAME:CET
DTSTART:20201025T010000
RRULE:FREQ=YEARLY;INTERVAL=1;BYDAY=-1SU;BYMONTH=10
END:STANDARD
END:VTIMEZONE
BEGIN:VEVENT
DTSTAMP:20260424T030900Z
DTSTART:20270202T190000Z
DTEND:20270202T213000Z
LOCATION:Elbphilharmonie Großer Saal
SUMMARY:Le Concert Olympique / Kit Armstrong / Jan Caeyers
DESCRIPTION:Besetzung\nLe Concert Olympique\nKit Armstrong: Klavier\nDirig
 ent: Jan Caeyers\n\nProgramm\nJohann Sebastian Bach\nPräludium und Fuge g
 -Moll BWV 885 / aus: Das wohltemperierte Klavier\, Band 2\nLudwig van Beet
 hoven\nKonzert für Klavier und Orchester Nr. 4 G-Dur op. 58\n– Pause 
 – \nLudwig van Beethoven\nSonate für Klavier f-Moll op. 57 »Appassion
 ata«\nSinfonie Nr. 5 c-Moll op. 67
UID:event28277@Elbphilharmonie.de
URL:https://www.elbphilharmonie.de/de/programm/le-concert-olympique-kit-ar
 mstrong-jan-caeyers/28277
END:VEVENT
END:VCALENDAR
