BEGIN:VCALENDAR
METHOD:PUBLISH
CALSCALE:GREGORIAN
PRODID:Elbphilharmonie
VERSION:2.0
BEGIN:VTIMEZONE
TZID:Europe/Berlin
BEGIN:DAYLIGHT
TZOFFSETFROM:+0100
TZOFFSETTO:+0200
TZNAME:CEST
DTSTART:20200329T010000
RRULE:FREQ=YEARLY;INTERVAL=1;BYDAY=-1SU;BYMONTH=3
END:DAYLIGHT
BEGIN:STANDARD
TZOFFSETFROM:+0200
TZOFFSETTO:+0100
TZNAME:CET
DTSTART:20201025T010000
RRULE:FREQ=YEARLY;INTERVAL=1;BYDAY=-1SU;BYMONTH=10
END:STANDARD
END:VTIMEZONE
BEGIN:VEVENT
DTSTAMP:20260423T133800Z
DTSTART:20261128T173000Z
DTEND:20261128T184000Z
LOCATION:Elbphilharmonie Kleiner Saal
SUMMARY:Lara Downes\, Klavier
DESCRIPTION:Besetzung\nLara Downes: Klavier\n\nProgramm\n»Finding Home«\
 nA Reflection on Global Journeys and the Echoes of Ancestral Memory\nMicha
 el Sahl\nTango / aus: Exiles’ Café\nKurt Weill\nLost in the Stars / aus
  dem Musical »Lost in the Stars«\nKian Ravaei\nVariations on »This Land
  is Your Land«\nHenry Thacker Burleigh\nFrom the Southland (Auswahl)\nFlo
 rence B. Price\nClouds\nHuang Ruo\nDiffluent / aus: Three Pieces for Piano
 \nMario Castelnuovo-Tedesco\nI naviganti op. 13\nMiguel del Aguila\nMusic
  in a Bottle op. 67\nMargaret Bonds\nTroubled Water / aus: Spiritual Suit
 e\nCaleb Burhans\nIn Time of Desperation\nOscar Peterson\nHymn to Freedom\
 nRicky Ian Gordon\nFinding Home / aus dem Musical »Dream True«
UID:event28424@Elbphilharmonie.de
URL:https://www.elbphilharmonie.de/de/programm/lara-downes-klavier/28424
END:VEVENT
END:VCALENDAR
