BEGIN:VCALENDAR
METHOD:PUBLISH
CALSCALE:GREGORIAN
PRODID:Elbphilharmonie
VERSION:2.0
BEGIN:VTIMEZONE
TZID:Europe/Berlin
BEGIN:DAYLIGHT
TZOFFSETFROM:+0100
TZOFFSETTO:+0200
TZNAME:CEST
DTSTART:20200329T010000
RRULE:FREQ=YEARLY;INTERVAL=1;BYDAY=-1SU;BYMONTH=3
END:DAYLIGHT
BEGIN:STANDARD
TZOFFSETFROM:+0200
TZOFFSETTO:+0100
TZNAME:CET
DTSTART:20201025T010000
RRULE:FREQ=YEARLY;INTERVAL=1;BYDAY=-1SU;BYMONTH=10
END:STANDARD
END:VTIMEZONE
BEGIN:VEVENT
DTSTAMP:20260423T115400Z
DTSTART:20270402T173000Z
DTEND:20270402T203000Z
LOCATION:Elbphilharmonie Kleiner Saal
SUMMARY:Konstantin Krimmel / Liederabend
DESCRIPTION:Besetzung\nKonstantin Krimmel: Bariton\nAmmiel Bushakevitz: Kl
 avier\n\nProgramm\nCarl Loewe\nTom der Reimer op. 135a\nHerr Oluf / aus: 
 Drei Balladen op. 2\nDer du von dem Himmel bist »Wandrers Nachtlied II«
  op. 9/4\nDer Totentanz / aus: Drei Balladen op. 44\nDie Überfahrt / au
 s: Zwei Balladen op. 94\nArchibald Douglas op. 128\n– Pause – \nHugo
  Wolf\nHarfenspieler I–III / aus: Goethe-Lieder\nFranz Schubert\nErlkön
 ig D 328\nNachtstück D 672\nDer König in Thule D 367\nDer Zwerg D 771\nG
 ruppe aus dem Tartarus D 583\nPrometheus D 674
UID:event28200@Elbphilharmonie.de
URL:https://www.elbphilharmonie.de/de/programm/konstantin-krimmel-liederab
 end/28200
END:VEVENT
END:VCALENDAR
