BEGIN:VCALENDAR
METHOD:PUBLISH
CALSCALE:GREGORIAN
PRODID:Elbphilharmonie
VERSION:2.0
BEGIN:VTIMEZONE
TZID:Europe/Berlin
BEGIN:DAYLIGHT
TZOFFSETFROM:+0100
TZOFFSETTO:+0200
TZNAME:CEST
DTSTART:20200329T010000
RRULE:FREQ=YEARLY;INTERVAL=1;BYDAY=-1SU;BYMONTH=3
END:DAYLIGHT
BEGIN:STANDARD
TZOFFSETFROM:+0200
TZOFFSETTO:+0100
TZNAME:CET
DTSTART:20201025T010000
RRULE:FREQ=YEARLY;INTERVAL=1;BYDAY=-1SU;BYMONTH=10
END:STANDARD
END:VTIMEZONE
BEGIN:VEVENT
DTSTAMP:20260424T050300Z
DTSTART:20270406T091500Z
DTEND:20270406T100000Z
LOCATION:Elbphilharmonie Kaistudio 1
SUMMARY:Kitakonzert »SCHNICK«
DESCRIPTION:Besetzung\nCatriona McKay: Keltische Harfe\nChristopher Stout:
  Fiddle\nSerena Galante: Szene und Bewegung\nDaniel Esteban: Szene und Bew
 egung\nDan Tanson: Regie\nBühne: Julie Conrad\nAlexandra Lichtenberger: K
 ostüm\n\nProgramm\nMusik und Bewegung entwickeln sich zu einem Spielplatz
  von schwebender Leichtigkeit
UID:event28318@Elbphilharmonie.de
URL:https://www.elbphilharmonie.de/de/programm/kitakonzert-schnick/28318
END:VEVENT
END:VCALENDAR
