BEGIN:VCALENDAR
METHOD:PUBLISH
CALSCALE:GREGORIAN
PRODID:Elbphilharmonie
VERSION:2.0
BEGIN:VTIMEZONE
TZID:Europe/Berlin
BEGIN:DAYLIGHT
TZOFFSETFROM:+0100
TZOFFSETTO:+0200
TZNAME:CEST
DTSTART:20200329T010000
RRULE:FREQ=YEARLY;INTERVAL=1;BYDAY=-1SU;BYMONTH=3
END:DAYLIGHT
BEGIN:STANDARD
TZOFFSETFROM:+0200
TZOFFSETTO:+0100
TZNAME:CET
DTSTART:20201025T010000
RRULE:FREQ=YEARLY;INTERVAL=1;BYDAY=-1SU;BYMONTH=10
END:STANDARD
END:VTIMEZONE
BEGIN:VEVENT
DTSTAMP:20260423T230100Z
DTSTART:20261214T101500Z
DTEND:20261214T110000Z
LOCATION:Elbphilharmonie Kaistudio 1
SUMMARY:Kitakonzert »Los!«
DESCRIPTION:Besetzung\nSons de Toile\nAnouk Roussely: Lichtdesign\nSimon F
 ilippi: Stimme\, Bodypercussion\nJulien Vasnier: Stimme\, Bodypercussion\n
 \nProgramm\nBodypercussion\, Stimme\, der ganze Körper macht Musik – K
 örpermusik eben
UID:event28312@Elbphilharmonie.de
URL:https://www.elbphilharmonie.de/de/programm/kitakonzert-los/28312
END:VEVENT
END:VCALENDAR
