BEGIN:VCALENDAR
METHOD:PUBLISH
CALSCALE:GREGORIAN
PRODID:Elbphilharmonie
VERSION:2.0
BEGIN:VTIMEZONE
TZID:Europe/Berlin
BEGIN:DAYLIGHT
TZOFFSETFROM:+0100
TZOFFSETTO:+0200
TZNAME:CEST
DTSTART:20200329T010000
RRULE:FREQ=YEARLY;INTERVAL=1;BYDAY=-1SU;BYMONTH=3
END:DAYLIGHT
BEGIN:STANDARD
TZOFFSETFROM:+0200
TZOFFSETTO:+0100
TZNAME:CET
DTSTART:20201025T010000
RRULE:FREQ=YEARLY;INTERVAL=1;BYDAY=-1SU;BYMONTH=10
END:STANDARD
END:VTIMEZONE
BEGIN:VEVENT
DTSTAMP:20260421T115100Z
DTSTART:20270306T190000Z
DTEND:20270306T210000Z
LOCATION:Laeiszhalle Großer Saal
SUMMARY:Karat
DESCRIPTION:Besetzung\nKarat\nClaudius Dreilich: Gesang\nBernd Römer: Git
 arre\nMartin Becker: Keyboard\nDaniel Bätge: bass\nHeiko Jung: Schlagzeug
 \nHeiko Jung: Schlagzeug\n\nProgramm\nGroße Hits wie »Über sieben Brüc
 ken«\, »Der blaue Planet« und »Jede Stunde«
UID:event24385@Elbphilharmonie.de
URL:https://www.elbphilharmonie.de/de/programm/karat/24385
END:VEVENT
END:VCALENDAR
