BEGIN:VCALENDAR
METHOD:PUBLISH
CALSCALE:GREGORIAN
PRODID:Elbphilharmonie
VERSION:2.0
BEGIN:VTIMEZONE
TZID:Europe/Berlin
BEGIN:DAYLIGHT
TZOFFSETFROM:+0100
TZOFFSETTO:+0200
TZNAME:CEST
DTSTART:20200329T010000
RRULE:FREQ=YEARLY;INTERVAL=1;BYDAY=-1SU;BYMONTH=3
END:DAYLIGHT
BEGIN:STANDARD
TZOFFSETFROM:+0200
TZOFFSETTO:+0100
TZNAME:CET
DTSTART:20201025T010000
RRULE:FREQ=YEARLY;INTERVAL=1;BYDAY=-1SU;BYMONTH=10
END:STANDARD
END:VTIMEZONE
BEGIN:VEVENT
DTSTAMP:20260423T122800Z
DTSTART:20270613T090000Z
DTEND:20270613T113000Z
LOCATION:Laeiszhalle Kleiner Saal
SUMMARY:Kammerkonzert der Symphoniker Hamburg
DESCRIPTION:Besetzung\nHovhannes Baghdasaryan: Violine\nMihaela Villalba H
 öpfner: Violine\nHsiang-Hsiang Tsai: Viola\nN.N.: Viola\nSebastian Mirow:
  Violoncello\nLi Li: Violoncello\n\nProgramm\nJoseph Haydn\nStreichquartet
 t C-Dur op. 20/2\nAlexander Borodin\nStreichquartett Nr. 2 D-Dur\n– Pau
 se – \nJohannes Brahms\nStreichsextett Nr. 2 G-Dur op. 36
UID:event28085@Elbphilharmonie.de
URL:https://www.elbphilharmonie.de/de/programm/kammerkonzert-der-symphonik
 er-hamburg/28085
END:VEVENT
END:VCALENDAR
