BEGIN:VCALENDAR
METHOD:PUBLISH
CALSCALE:GREGORIAN
PRODID:Elbphilharmonie
VERSION:2.0
BEGIN:VTIMEZONE
TZID:Europe/Berlin
BEGIN:DAYLIGHT
TZOFFSETFROM:+0100
TZOFFSETTO:+0200
TZNAME:CEST
DTSTART:20200329T010000
RRULE:FREQ=YEARLY;INTERVAL=1;BYDAY=-1SU;BYMONTH=3
END:DAYLIGHT
BEGIN:STANDARD
TZOFFSETFROM:+0200
TZOFFSETTO:+0100
TZNAME:CET
DTSTART:20201025T010000
RRULE:FREQ=YEARLY;INTERVAL=1;BYDAY=-1SU;BYMONTH=10
END:STANDARD
END:VTIMEZONE
BEGIN:VEVENT
DTSTAMP:20260423T122800Z
DTSTART:20270408T173000Z
DTEND:20270408T200000Z
LOCATION:Laeiszhalle Kleiner Saal
SUMMARY:Kammerkonzert der Symphoniker Hamburg
DESCRIPTION:Besetzung\nSusanne Barner: Flöte\nMarc Renner: Oboe\nFrederik
  Virsik: Klarinette\nElmar Hönig: Klarinette\nPéter Gulyka: Horn\nChrist
 ian Ganzhorn: Fagott\nBarbara Hefele: Violine\nDaniela Frank-Muntean: Viol
 a\nTheresia Rosendorfer: Violoncello\nRafael Cunha: Kontrabass\n\nProgramm
 \nBedřich Smetana\nZwei Tänze aus »Die verkaufte Braut« B 143 / Bearbe
 itung für Bläser-Sextett\nLeoš Janáček\nMládi (Die Jugend) für Blä
 serensemble\n– Pause – \nConradin Kreutzer\nSeptett Es-Dur op. 62
UID:event28083@Elbphilharmonie.de
URL:https://www.elbphilharmonie.de/de/programm/kammerkonzert-der-symphonik
 er-hamburg/28083
END:VEVENT
END:VCALENDAR
