BEGIN:VCALENDAR
METHOD:PUBLISH
CALSCALE:GREGORIAN
PRODID:Elbphilharmonie
VERSION:2.0
BEGIN:VTIMEZONE
TZID:Europe/Berlin
BEGIN:DAYLIGHT
TZOFFSETFROM:+0100
TZOFFSETTO:+0200
TZNAME:CEST
DTSTART:20200329T010000
RRULE:FREQ=YEARLY;INTERVAL=1;BYDAY=-1SU;BYMONTH=3
END:DAYLIGHT
BEGIN:STANDARD
TZOFFSETFROM:+0200
TZOFFSETTO:+0100
TZNAME:CET
DTSTART:20201025T010000
RRULE:FREQ=YEARLY;INTERVAL=1;BYDAY=-1SU;BYMONTH=10
END:STANDARD
END:VTIMEZONE
BEGIN:VEVENT
DTSTAMP:20260423T122800Z
DTSTART:20270207T100000Z
DTEND:20270207T123000Z
LOCATION:Laeiszhalle Kleiner Saal
SUMMARY:Kammerkonzert der Symphoniker Hamburg
DESCRIPTION:Besetzung\nHovhannes Baghdasaryan: Violine\nSebastian Mirow: V
 ioloncello\nOlena Kushpler: Klavier\n\nProgramm\nLudwig van Beethoven\nKla
 viertrio D-Dur op. 70/1 »Geistertrio«\nFelix Mendelssohn Bartholdy\nKla
 viertrio c-Moll op. 66\n– Pause – \nDmitri Schostakowitsch\nKlaviertr
 io Nr. 2 e-Moll op. 67
UID:event28081@Elbphilharmonie.de
URL:https://www.elbphilharmonie.de/de/programm/kammerkonzert-der-symphonik
 er-hamburg/28081
END:VEVENT
END:VCALENDAR
