BEGIN:VCALENDAR
METHOD:PUBLISH
CALSCALE:GREGORIAN
PRODID:Elbphilharmonie
VERSION:2.0
BEGIN:VTIMEZONE
TZID:Europe/Berlin
BEGIN:DAYLIGHT
TZOFFSETFROM:+0100
TZOFFSETTO:+0200
TZNAME:CEST
DTSTART:20200329T010000
RRULE:FREQ=YEARLY;INTERVAL=1;BYDAY=-1SU;BYMONTH=3
END:DAYLIGHT
BEGIN:STANDARD
TZOFFSETFROM:+0200
TZOFFSETTO:+0100
TZNAME:CET
DTSTART:20201025T010000
RRULE:FREQ=YEARLY;INTERVAL=1;BYDAY=-1SU;BYMONTH=10
END:STANDARD
END:VTIMEZONE
BEGIN:VEVENT
DTSTAMP:20260423T122800Z
DTSTART:20261217T183000Z
DTEND:20261217T210000Z
LOCATION:Laeiszhalle Kleiner Saal
SUMMARY:Kammerkonzert der Symphoniker Hamburg
DESCRIPTION:Besetzung\nSatoko Koike: Violine\nMariko Miwa: Violine\nHsiang
 -Hsiang Tsai: Viola\nSebastian Mirow: Violoncello\nJoão Vargas: Kontrabas
 s\nPéter Gulyka: Horn\nMatthias Secker: Fagott\nFrederik Virsik: Klarinet
 te\n\nProgramm\nJoseph Haydn\nSinfonie fis-Moll Hob. I:45 »Abschiedssinfo
 nie« / Arrangement für gemischtes Oktett von Ulf-Guido Schäfer\n– Pau
 se – \nFranz Schubert\nOktett F-Dur D 803
UID:event28080@Elbphilharmonie.de
URL:https://www.elbphilharmonie.de/de/programm/kammerkonzert-der-symphonik
 er-hamburg/28080
END:VEVENT
END:VCALENDAR
