BEGIN:VCALENDAR
METHOD:PUBLISH
CALSCALE:GREGORIAN
PRODID:Elbphilharmonie
VERSION:2.0
BEGIN:VTIMEZONE
TZID:Europe/Berlin
BEGIN:DAYLIGHT
TZOFFSETFROM:+0100
TZOFFSETTO:+0200
TZNAME:CEST
DTSTART:20200329T010000
RRULE:FREQ=YEARLY;INTERVAL=1;BYDAY=-1SU;BYMONTH=3
END:DAYLIGHT
BEGIN:STANDARD
TZOFFSETFROM:+0200
TZOFFSETTO:+0100
TZNAME:CET
DTSTART:20201025T010000
RRULE:FREQ=YEARLY;INTERVAL=1;BYDAY=-1SU;BYMONTH=10
END:STANDARD
END:VTIMEZONE
BEGIN:VEVENT
DTSTAMP:20260423T122800Z
DTSTART:20261122T100000Z
DTEND:20261122T123000Z
LOCATION:Laeiszhalle Kleiner Saal
SUMMARY:Kammerkonzert der Symphoniker Hamburg
DESCRIPTION:Besetzung\nBarbara Hefele: Violine\nYiju Seo: Violine\nMakrouh
 i Hagel: Violine\nKatharina Ivanova: Violine\nHsiang-Hsiang Tsai: Viola\nN
 .N.: Viola\nTheresia Rosendorfer: Violoncello\nJoão Vargas: Kontrabass\n\
 nProgramm\nErwin Schulhoff\nFünf Stücke für Streichquartett\nWolfgang A
 madeus Mozart\nStreichquartett C-Dur KV 465 »Dissonanzenquartett«\nMax B
 ruch\nStreichoktett B-Dur
UID:event28078@Elbphilharmonie.de
URL:https://www.elbphilharmonie.de/de/programm/kammerkonzert-der-symphonik
 er-hamburg/28078
END:VEVENT
END:VCALENDAR
