BEGIN:VCALENDAR
METHOD:PUBLISH
CALSCALE:GREGORIAN
PRODID:Elbphilharmonie
VERSION:2.0
BEGIN:VTIMEZONE
TZID:Europe/Berlin
BEGIN:DAYLIGHT
TZOFFSETFROM:+0100
TZOFFSETTO:+0200
TZNAME:CEST
DTSTART:20200329T010000
RRULE:FREQ=YEARLY;INTERVAL=1;BYDAY=-1SU;BYMONTH=3
END:DAYLIGHT
BEGIN:STANDARD
TZOFFSETFROM:+0200
TZOFFSETTO:+0100
TZNAME:CET
DTSTART:20201025T010000
RRULE:FREQ=YEARLY;INTERVAL=1;BYDAY=-1SU;BYMONTH=10
END:STANDARD
END:VTIMEZONE
BEGIN:VEVENT
DTSTAMP:20260423T122800Z
DTSTART:20260927T090000Z
DTEND:20260927T113000Z
LOCATION:Laeiszhalle Kleiner Saal
SUMMARY:Kammerkonzert der Symphoniker Hamburg
DESCRIPTION:Besetzung\nMariko Miwa: Violine\nYu Lin: Violine\nJuhee Lee: V
 iola\nDavid Martín Gutiérrez: Violoncello\nRafael Cunha: Kontrabass\n\nP
 rogramm\nJoaquín Turina\nLa oración del torero op. 34\nDmitri Schostako
 witsch\nStreichquartett Nr. 8 c-Moll op. 110\n– Pause – \nAntonín Dv
 ořák\nStreichquintett G-Dur op. 77
UID:event28077@Elbphilharmonie.de
URL:https://www.elbphilharmonie.de/de/programm/kammerkonzert-der-symphonik
 er-hamburg/28077
END:VEVENT
END:VCALENDAR
