BEGIN:VCALENDAR
METHOD:PUBLISH
CALSCALE:GREGORIAN
PRODID:Elbphilharmonie
VERSION:2.0
BEGIN:VTIMEZONE
TZID:Europe/Berlin
BEGIN:DAYLIGHT
TZOFFSETFROM:+0100
TZOFFSETTO:+0200
TZNAME:CEST
DTSTART:20200329T010000
RRULE:FREQ=YEARLY;INTERVAL=1;BYDAY=-1SU;BYMONTH=3
END:DAYLIGHT
BEGIN:STANDARD
TZOFFSETFROM:+0200
TZOFFSETTO:+0100
TZNAME:CET
DTSTART:20201025T010000
RRULE:FREQ=YEARLY;INTERVAL=1;BYDAY=-1SU;BYMONTH=10
END:STANDARD
END:VTIMEZONE
BEGIN:VEVENT
DTSTAMP:20260424T021600Z
DTSTART:20270411T123000Z
DTEND:20270411T143000Z
LOCATION:Laeiszhalle Großer Saal
SUMMARY:»Juri und das Ungeheuer von Loch Ness«
DESCRIPTION:Besetzung\nSymphoniker Hamburg\nDirigent: Jason Weaver\nJuri T
 etzlaff: Moderation\n\nProgramm\nFelix Mendelssohn Bartholdy\nSinfonie Nr.
  3 a-Moll op. 56 »Schottische«
UID:event28065@Elbphilharmonie.de
URL:https://www.elbphilharmonie.de/de/programm/juri-und-das-ungeheuer-von-
 loch-ness/28065
END:VEVENT
END:VCALENDAR
