BEGIN:VCALENDAR
METHOD:PUBLISH
CALSCALE:GREGORIAN
PRODID:Elbphilharmonie
VERSION:2.0
BEGIN:VTIMEZONE
TZID:Europe/Berlin
BEGIN:DAYLIGHT
TZOFFSETFROM:+0100
TZOFFSETTO:+0200
TZNAME:CEST
DTSTART:20200329T010000
RRULE:FREQ=YEARLY;INTERVAL=1;BYDAY=-1SU;BYMONTH=3
END:DAYLIGHT
BEGIN:STANDARD
TZOFFSETFROM:+0200
TZOFFSETTO:+0100
TZNAME:CET
DTSTART:20201025T010000
RRULE:FREQ=YEARLY;INTERVAL=1;BYDAY=-1SU;BYMONTH=10
END:STANDARD
END:VTIMEZONE
BEGIN:VEVENT
DTSTAMP:20260423T230100Z
DTSTART:20261115T133000Z
DTEND:20261115T143000Z
LOCATION:Laeiszhalle Großer Saal
SUMMARY:»Juri knackt den Enigma-Code«
DESCRIPTION:Besetzung\nSymphoniker Hamburg\nDirigent: Jason Weaver\nJuri T
 etzlaff: Moderation\n\nProgramm\nEdward Elgar\nEnigma-Variationen op. 36
UID:event28061@Elbphilharmonie.de
URL:https://www.elbphilharmonie.de/de/programm/juri-knackt-den-enigma-code
 /28061
END:VEVENT
END:VCALENDAR
