BEGIN:VCALENDAR
METHOD:PUBLISH
CALSCALE:GREGORIAN
PRODID:Elbphilharmonie
VERSION:2.0
BEGIN:VTIMEZONE
TZID:Europe/Berlin
BEGIN:DAYLIGHT
TZOFFSETFROM:+0100
TZOFFSETTO:+0200
TZNAME:CEST
DTSTART:20200329T010000
RRULE:FREQ=YEARLY;INTERVAL=1;BYDAY=-1SU;BYMONTH=3
END:DAYLIGHT
BEGIN:STANDARD
TZOFFSETFROM:+0200
TZOFFSETTO:+0100
TZNAME:CET
DTSTART:20201025T010000
RRULE:FREQ=YEARLY;INTERVAL=1;BYDAY=-1SU;BYMONTH=10
END:STANDARD
END:VTIMEZONE
BEGIN:VEVENT
DTSTAMP:20260424T202400Z
DTSTART:20270120T183000Z
DTEND:20270120T201500Z
LOCATION:Elbphilharmonie Kleiner Saal
SUMMARY:Javus Quartett
DESCRIPTION:Besetzung\nJavus Quartett\nMarie-Therese Schwöllinger: Violin
 e\nAlexandra Moser: Violine\nMarvin Stark: Viola\nOscar Hagen: Violoncello
 \n\nProgramm\nOscar Jockel\nNeues Werk\nJoseph Haydn\nStreichquartett G-Du
 r op. 77/1 »Komplimentierquartett«\n– Pause – \nFanny Hensel\nStrei
 chquartett Es-Dur\nHans Gál\nStreichquartett Nr. 1 f-Moll op. 16
UID:event28149@Elbphilharmonie.de
URL:https://www.elbphilharmonie.de/de/programm/javus-quartett/28149
END:VEVENT
END:VCALENDAR
