BEGIN:VCALENDAR
METHOD:PUBLISH
CALSCALE:GREGORIAN
PRODID:Elbphilharmonie
VERSION:2.0
BEGIN:VTIMEZONE
TZID:Europe/Berlin
BEGIN:DAYLIGHT
TZOFFSETFROM:+0100
TZOFFSETTO:+0200
TZNAME:CEST
DTSTART:20200329T010000
RRULE:FREQ=YEARLY;INTERVAL=1;BYDAY=-1SU;BYMONTH=3
END:DAYLIGHT
BEGIN:STANDARD
TZOFFSETFROM:+0200
TZOFFSETTO:+0100
TZNAME:CET
DTSTART:20201025T010000
RRULE:FREQ=YEARLY;INTERVAL=1;BYDAY=-1SU;BYMONTH=10
END:STANDARD
END:VTIMEZONE
BEGIN:VEVENT
DTSTAMP:20260423T115400Z
DTSTART:20261206T190000Z
DTEND:20261206T213000Z
LOCATION:Laeiszhalle Kleiner Saal
SUMMARY:James Ehnes / Alexandra Preucil / Antoine Tamestit / Sao Soulez La
 rivière / Christian Poltéra
DESCRIPTION:Besetzung\nJames Ehnes: Violine\nAlexandra Preucil: Violine\nA
 ntoine Tamestit: Viola\nSào Soulez Larivière: Viola\nChristian Poltéra:
  Violoncello\n\nProgramm\nJohannes Brahms\nStreichquintett Nr. 1 F-Dur op.
  88\nGeorge Benjamin\nViola\, Viola\n– Pause – \nJohannes Brahms\nStr
 eichquintett Nr. 2 G-Dur op. 111
UID:event28138@Elbphilharmonie.de
URL:https://www.elbphilharmonie.de/de/programm/james-ehnes-alexandra-preuc
 il-antoine-tamestit-sao-soulez-lariviere-christian-poltera/28138
END:VEVENT
END:VCALENDAR
