BEGIN:VCALENDAR
METHOD:PUBLISH
CALSCALE:GREGORIAN
PRODID:Elbphilharmonie
VERSION:2.0
BEGIN:VTIMEZONE
TZID:Europe/Berlin
BEGIN:DAYLIGHT
TZOFFSETFROM:+0100
TZOFFSETTO:+0200
TZNAME:CEST
DTSTART:20200329T010000
RRULE:FREQ=YEARLY;INTERVAL=1;BYDAY=-1SU;BYMONTH=3
END:DAYLIGHT
BEGIN:STANDARD
TZOFFSETFROM:+0200
TZOFFSETTO:+0100
TZNAME:CET
DTSTART:20201025T010000
RRULE:FREQ=YEARLY;INTERVAL=1;BYDAY=-1SU;BYMONTH=10
END:STANDARD
END:VTIMEZONE
BEGIN:VEVENT
DTSTAMP:20260423T114100Z
DTSTART:20270127T190000Z
DTEND:20270127T211500Z
LOCATION:Elbphilharmonie Großer Saal
SUMMARY:Iveta Apkalna\, Orgel
DESCRIPTION:Besetzung\nIveta Apkalna: Orgel\n\nProgramm\nDmitri Schostakow
 itsch\nPassacaglia aus der Oper »Lady Macbeth von Mzensk«\nFranz Liszt\n
 Fantasie und Fuge über den Choral »Ad nos\, ad salutarem undam« S 259\n
 Aivars Kalējs\nToccata über den Choral »Allein Gott in der Höh’ sei 
 Ehr«\n– Pause – \nPhilip Glass\nFinale / aus der Oper »Satyagraha« 
 (Bearbeitung für Orgel von Michael Riesman)\nJohann Sebastian Bach\nPassa
 caglia c-Moll BWV 582\nFranz Liszt\nPrometheus / Sinfonische Dichtung Nr. 
 5 S 99
UID:event28039@Elbphilharmonie.de
URL:https://www.elbphilharmonie.de/de/programm/iveta-apkalna-orgel/28039
END:VEVENT
END:VCALENDAR
