BEGIN:VCALENDAR
METHOD:PUBLISH
CALSCALE:GREGORIAN
PRODID:Elbphilharmonie
VERSION:2.0
BEGIN:VTIMEZONE
TZID:Europe/Berlin
BEGIN:DAYLIGHT
TZOFFSETFROM:+0100
TZOFFSETTO:+0200
TZNAME:CEST
DTSTART:20200329T010000
RRULE:FREQ=YEARLY;INTERVAL=1;BYDAY=-1SU;BYMONTH=3
END:DAYLIGHT
BEGIN:STANDARD
TZOFFSETFROM:+0200
TZOFFSETTO:+0100
TZNAME:CET
DTSTART:20201025T010000
RRULE:FREQ=YEARLY;INTERVAL=1;BYDAY=-1SU;BYMONTH=10
END:STANDARD
END:VTIMEZONE
BEGIN:VEVENT
DTSTAMP:20260423T230000Z
DTSTART:20261105T183000Z
DTEND:20261105T203000Z
LOCATION:Elbphilharmonie Kleiner Saal
SUMMARY:Isaiah Collier Quartet
DESCRIPTION:Besetzung\nIsaiah Collier: saxophone\nDavis Whitfield: piano\n
 Conway Campbell: bass\nTim Regis: drums\n\nProgramm\n»Collier Plays Coltr
 ane«
UID:event27980@Elbphilharmonie.de
URL:https://www.elbphilharmonie.de/de/programm/isaiah-collier-quartet/2798
 0
END:VEVENT
END:VCALENDAR
