BEGIN:VCALENDAR
METHOD:PUBLISH
CALSCALE:GREGORIAN
PRODID:Elbphilharmonie
VERSION:2.0
BEGIN:VTIMEZONE
TZID:Europe/Berlin
BEGIN:DAYLIGHT
TZOFFSETFROM:+0100
TZOFFSETTO:+0200
TZNAME:CEST
DTSTART:20200329T010000
RRULE:FREQ=YEARLY;INTERVAL=1;BYDAY=-1SU;BYMONTH=3
END:DAYLIGHT
BEGIN:STANDARD
TZOFFSETFROM:+0200
TZOFFSETTO:+0100
TZNAME:CET
DTSTART:20201025T010000
RRULE:FREQ=YEARLY;INTERVAL=1;BYDAY=-1SU;BYMONTH=10
END:STANDARD
END:VTIMEZONE
BEGIN:VEVENT
DTSTAMP:20260423T233300Z
DTSTART:20260924T173000Z
DTEND:20260924T193000Z
LOCATION:St. Johannis-Harvestehude
SUMMARY:International Mendelssohn Festival Hamburg 2026
DESCRIPTION:Besetzung\nMoses Mendelssohn Kammerorchester\nFine Arts Quarte
 t\nRalph Evans: Violine\nEfim Boico: Violine\nGil Sharon: Viola\nNiklas Sc
 hmidt: Violoncello\nMark Gothóni: Violine\nJosefine Natalia Kardinar: Vio
 line\nPeijun Xu: Viola\nNiklas Schmidt: Violoncello\nArto Noras: Violoncel
 lo\nClemens Malich: Violoncello\nMichel Lethiec: Klarinette\n\nProgramm\nW
 olfgang Amadeus Mozart\nStreichquintett g-Moll KV 516\nJohann Sebastian Ba
 ch\nKonzert für zwei Violinen\, Streicher und Basso continuo d-Moll BWV 1
 043\n– Pause – \nWolfgang Amadeus Mozart\nLarghetto / aus: Klarinetten
 quintett A-Dur KV 581 »Stadler-Quintett«\nRobert Volkmann\nAndante mit V
 ariationen für drei Violoncelli\nAlfredo Piatti\nSerenade für zwei Violo
 ncelli und Klavier\nHeinrich Joseph Baermann\nAdagio für Klarinette und S
 treicher Des-Dur\nAntonio Vivaldi\nConcerto für zwei Violoncelli\, Streic
 her und Basso continuo g-Moll RV 531 / aus: L’estro armonico\nPau Casals
 \nCant dels ocells (Lied der Vögel) für Violoncello und Streichorchester
UID:event28871@Elbphilharmonie.de
URL:https://www.elbphilharmonie.de/de/programm/international-mendelssohn-f
 estival-hamburg-2026/28871
END:VEVENT
END:VCALENDAR
