BEGIN:VCALENDAR
METHOD:PUBLISH
CALSCALE:GREGORIAN
PRODID:Elbphilharmonie
VERSION:2.0
BEGIN:VTIMEZONE
TZID:Europe/Berlin
BEGIN:DAYLIGHT
TZOFFSETFROM:+0100
TZOFFSETTO:+0200
TZNAME:CEST
DTSTART:20200329T010000
RRULE:FREQ=YEARLY;INTERVAL=1;BYDAY=-1SU;BYMONTH=3
END:DAYLIGHT
BEGIN:STANDARD
TZOFFSETFROM:+0200
TZOFFSETTO:+0100
TZNAME:CET
DTSTART:20201025T010000
RRULE:FREQ=YEARLY;INTERVAL=1;BYDAY=-1SU;BYMONTH=10
END:STANDARD
END:VTIMEZONE
BEGIN:VEVENT
DTSTAMP:20260423T151400Z
DTSTART:20260918T173000Z
DTEND:20260918T193000Z
LOCATION:St. Johannis-Harvestehude
SUMMARY:International Mendelssohn Festival Hamburg 2026
DESCRIPTION:Besetzung\nTalich Quartet\nJan Talich: Violine\nRoman Patočka
 : Violine\nRadim Sedmidubský: Viola\nMichal Kaňka: Violoncello\nJiyoon L
 ee: Violine\nAnna Kreetta Gribajcevic: Viola\nHartmut Rohde: Viola\nNiklas
  Schmidt: Violoncello\nJens Bomhardt: Kontrabass\nPatrick Gallois: Flöte\
 nMichel Lethiec: Klarinette\nAsya Fateyeva: Saxofon\nÁlmos László Tall
 ós: Harfe\nMartín Zamorano: Klavier\n\nProgramm\nJohann Sebastian Bach\n
 Suite für Violoncello solo Nr. 1 G-Dur BWV 1007\nMaurice Ravel\nIntroduct
 ion et Allegro für Flöte\, Klarinette\, Harfe und Streichquartett\nClaud
 e Debussy\nPrélude à l’après-midi d’un faune / Bearbeitung für Kam
 merensemble\n– Pause – \nJohann Sebastian Bach\nChaconne »Reimagined
 « für Saxofon und Klavier / aus: Partita Nr. 2 d-Moll BWV 1004\nFelix Me
 ndelssohn Bartholdy\nStreichquintett B-Dur op. 87
UID:event28870@Elbphilharmonie.de
URL:https://www.elbphilharmonie.de/de/programm/international-mendelssohn-f
 estival-hamburg-2026/28870
END:VEVENT
END:VCALENDAR
