BEGIN:VCALENDAR
METHOD:PUBLISH
CALSCALE:GREGORIAN
PRODID:Elbphilharmonie
VERSION:2.0
BEGIN:VTIMEZONE
TZID:Europe/Berlin
BEGIN:DAYLIGHT
TZOFFSETFROM:+0100
TZOFFSETTO:+0200
TZNAME:CEST
DTSTART:20200329T010000
RRULE:FREQ=YEARLY;INTERVAL=1;BYDAY=-1SU;BYMONTH=3
END:DAYLIGHT
BEGIN:STANDARD
TZOFFSETFROM:+0200
TZOFFSETTO:+0100
TZNAME:CET
DTSTART:20201025T010000
RRULE:FREQ=YEARLY;INTERVAL=1;BYDAY=-1SU;BYMONTH=10
END:STANDARD
END:VTIMEZONE
BEGIN:VEVENT
DTSTAMP:20260423T151400Z
DTSTART:20260917T173000Z
DTEND:20260917T193000Z
LOCATION:Laeiszhalle Kleiner Saal
SUMMARY:International Mendelssohn Festival Hamburg 2026
DESCRIPTION:Besetzung\nSophia Jaffé: Violine\nMatthias Lingenfelder: Viol
 ine\nJiyoon Lee: Violine\nAnna Kreetta Gribajcevic: Viola\nHartmut Rohde: 
 Viola\nNiklas Schmidt: Violoncello\nJulian Bliss: Klarinette\nAsya Fateyev
 a: Saxofon\nStepan Simonian: Klavier\nAnnika Treutler: Klavier\nJuhani Lag
 erspetz: Klavier\n\nProgramm\nRobert Schumann\nSonate für Violine und Kla
 vier Nr. 1 a-Moll op. 105\nJörg Widmann\nFieberphantasie für Klavier\, 
 Streichquartett und Klarinette\nCécile Chaminade\nConcertino pour Flûte 
 op. 107\nCarl Maria von Weber\nAndante con moto aus »Grand Duo concertan
 t« Es-Dur op. 48\nAndré Messager\nSolo de Concours\n– Pause – \nCar
 l Maria von Weber\nSonate Nr. 2 G-Dur op. 10\nAdagio und Rondo für Violo
 ncello und Klavier\nRobert Schumann\nKlavierquartett Es-Dur op. 47
UID:event28866@Elbphilharmonie.de
URL:https://www.elbphilharmonie.de/de/programm/international-mendelssohn-f
 estival-hamburg-2026/28866
END:VEVENT
END:VCALENDAR
