BEGIN:VCALENDAR
METHOD:PUBLISH
CALSCALE:GREGORIAN
PRODID:Elbphilharmonie
VERSION:2.0
BEGIN:VTIMEZONE
TZID:Europe/Berlin
BEGIN:DAYLIGHT
TZOFFSETFROM:+0100
TZOFFSETTO:+0200
TZNAME:CEST
DTSTART:20200329T010000
RRULE:FREQ=YEARLY;INTERVAL=1;BYDAY=-1SU;BYMONTH=3
END:DAYLIGHT
BEGIN:STANDARD
TZOFFSETFROM:+0200
TZOFFSETTO:+0100
TZNAME:CET
DTSTART:20201025T010000
RRULE:FREQ=YEARLY;INTERVAL=1;BYDAY=-1SU;BYMONTH=10
END:STANDARD
END:VTIMEZONE
BEGIN:VEVENT
DTSTAMP:20260423T233300Z
DTSTART:20260926T173000Z
DTEND:20260926T193000Z
LOCATION:Elbphilharmonie Kleiner Saal
SUMMARY:International Mendelssohn Festival Hamburg 2026
DESCRIPTION:Besetzung\nFine Arts Quartet\nRalph Evans: Violine\nEfim Boico
 : Violine\nGil Sharon: Viola\nNiklas Schmidt: Violoncello\n5um3\nMeret Lou
 isa Vogel: Flöte\nJiyeon Noh: Oboe\nMax Godinić: Klarinette\nAnnika Koll
 : Fagott\nUna Weske: Horn\nPeijun Xu: Viola\n\nProgramm\nLudwig van Beetho
 ven\nStreichquartett F-Dur op. 18/1\nAnton Reicha\nQuintett f-Moll op. 9
 9/2\n– Pause – \nLudwig van Beethoven\nStreichquintett C-Dur op. 29
UID:event28827@Elbphilharmonie.de
URL:https://www.elbphilharmonie.de/de/programm/international-mendelssohn-f
 estival-hamburg-2026/28827
END:VEVENT
END:VCALENDAR
