BEGIN:VCALENDAR
METHOD:PUBLISH
CALSCALE:GREGORIAN
PRODID:Elbphilharmonie
VERSION:2.0
BEGIN:VTIMEZONE
TZID:Europe/Berlin
BEGIN:DAYLIGHT
TZOFFSETFROM:+0100
TZOFFSETTO:+0200
TZNAME:CEST
DTSTART:20200329T010000
RRULE:FREQ=YEARLY;INTERVAL=1;BYDAY=-1SU;BYMONTH=3
END:DAYLIGHT
BEGIN:STANDARD
TZOFFSETFROM:+0200
TZOFFSETTO:+0100
TZNAME:CET
DTSTART:20201025T010000
RRULE:FREQ=YEARLY;INTERVAL=1;BYDAY=-1SU;BYMONTH=10
END:STANDARD
END:VTIMEZONE
BEGIN:VEVENT
DTSTAMP:20260423T151400Z
DTSTART:20260919T173000Z
DTEND:20260919T193000Z
LOCATION:Elbphilharmonie Kleiner Saal
SUMMARY:International Mendelssohn Festival Hamburg 2026
DESCRIPTION:Besetzung\nJiyoon Lee: Violine\nNiklas Schmidt: Violoncello\nP
 atrick Gallois: Flöte\nMichel Lethiec: Klarinette\nÁlmos László Talló
 s: Harfe\nJuhani Lagerspetz: Klavier\nStepan Simonian: Klavier\n\nProgramm
 \nCarl Maria von Weber\nSonate Nr. 5 A-Dur op.10\nHenriette Renié\nLégen
 de d’après »les Elfes« de Leconte de Lisle\nPablo de Sarasate\nCarmen
 -Fantasie für Violine und Klavier op. 25\nGeorges Bizet\n»Carmen strips
 « Fantaisie sur des airs de Bizet\n– Pause – \nCarl Maria von Weber\n
 Trio g-Moll op. 63 für Flöte\, Violoncello und Klavier\nFelix Mendelsso
 hn Bartholdy\nSuite / aus: Ein Sommernachtstraum op. 61\nZugabe:\nDavid P
 opper\nElfentanz op. 39 für Violoncello und Klavier
UID:event28826@Elbphilharmonie.de
URL:https://www.elbphilharmonie.de/de/programm/international-mendelssohn-f
 estival-hamburg-2026/28826
END:VEVENT
END:VCALENDAR
