BEGIN:VCALENDAR
METHOD:PUBLISH
CALSCALE:GREGORIAN
PRODID:Elbphilharmonie
VERSION:2.0
BEGIN:VTIMEZONE
TZID:Europe/Berlin
BEGIN:DAYLIGHT
TZOFFSETFROM:+0100
TZOFFSETTO:+0200
TZNAME:CEST
DTSTART:20200329T010000
RRULE:FREQ=YEARLY;INTERVAL=1;BYDAY=-1SU;BYMONTH=3
END:DAYLIGHT
BEGIN:STANDARD
TZOFFSETFROM:+0200
TZOFFSETTO:+0100
TZNAME:CET
DTSTART:20201025T010000
RRULE:FREQ=YEARLY;INTERVAL=1;BYDAY=-1SU;BYMONTH=10
END:STANDARD
END:VTIMEZONE
BEGIN:VEVENT
DTSTAMP:20260423T233300Z
DTSTART:20260927T173000Z
DTEND:20260927T193000Z
LOCATION:Elbphilharmonie Kleiner Saal
SUMMARY:International Mendelssohn Festival Hamburg 2026
DESCRIPTION:Besetzung\n5um3\nMeret Louisa Vogel: Flöte\nJiyeon Noh: Oboe\
 nMax Godinić: Klarinette\nAnnika Koll: Fagott\nUna Weske: Horn\nFine Arts
  Quartet\nRalph Evans: Violine\nEfim Boico: Violine\nGil Sharon: Viola\nNi
 klas Schmidt: Violoncello\nMark Gothóni: Violine\nAnna Kreetta Gribajcevi
 c: Viola\nArto Noras: Violoncello\nJens Bomhardt: Kontrabass\nAlon Goldste
 in: Klavier\nJuhani Lagerspetz: Klavier\n\nProgramm\nFelix Mendelssohn Bar
 tholdy\nTrois Fantaisies ou Caprices op. 16\nCarl Maria von Weber\nKlavie
 rquartett B-Dur op. 8\n– Pause – \nWolfgang Amadeus Mozart\nKonzert f
 ür Klavier und Orchester C-Dur KV 467\nStephen Montague\nThule Ultima
UID:event28825@Elbphilharmonie.de
URL:https://www.elbphilharmonie.de/de/programm/international-mendelssohn-f
 estival-hamburg-2026/28825
END:VEVENT
END:VCALENDAR
