BEGIN:VCALENDAR
METHOD:PUBLISH
CALSCALE:GREGORIAN
PRODID:Elbphilharmonie
VERSION:2.0
BEGIN:VTIMEZONE
TZID:Europe/Berlin
BEGIN:DAYLIGHT
TZOFFSETFROM:+0100
TZOFFSETTO:+0200
TZNAME:CEST
DTSTART:20200329T010000
RRULE:FREQ=YEARLY;INTERVAL=1;BYDAY=-1SU;BYMONTH=3
END:DAYLIGHT
BEGIN:STANDARD
TZOFFSETFROM:+0200
TZOFFSETTO:+0100
TZNAME:CET
DTSTART:20201025T010000
RRULE:FREQ=YEARLY;INTERVAL=1;BYDAY=-1SU;BYMONTH=10
END:STANDARD
END:VTIMEZONE
BEGIN:VEVENT
DTSTAMP:20260423T162800Z
DTSTART:20260925T173000Z
DTEND:20260925T193000Z
LOCATION:Elbphilharmonie Kleiner Saal
SUMMARY:International Mendelssohn Festival Hamburg 2026
DESCRIPTION:Besetzung\nFine Arts Quartet\nRalph Evans: Violine\nEfim Boico
 : Violine\nGil Sharon: Viola\nNiklas Schmidt: Violoncello\nPeijun Xu: Viol
 a\nAnna Kreetta Gribajcevic: Viola\nJens Bomhardt: Kontrabass\nStepan Simo
 nian: Klavier\nAlon Goldstein: Klavier\n\nProgramm\nJean Marie Leclair\nSo
 nate c-Moll op. 12/5 für zwei Violinen\nYork Bowen\n»Phantasy« für Vi
 ola und Klavier op. 54\nCarl Maria von Weber\nAndante und Rondo ungarese 
 c-Moll J 79 für Viola und Klavier\n– Pause – \nDomenico Scarlatti\nDr
 ei Sonaten für Klavier\nWolfgang Amadeus Mozart\nKonzert für Klavier und
  Orchester A-Dur KV 488
UID:event28824@Elbphilharmonie.de
URL:https://www.elbphilharmonie.de/de/programm/international-mendelssohn-f
 estival-hamburg-2026/28824
END:VEVENT
END:VCALENDAR
