BEGIN:VCALENDAR
METHOD:PUBLISH
CALSCALE:GREGORIAN
PRODID:Elbphilharmonie
VERSION:2.0
BEGIN:VTIMEZONE
TZID:Europe/Berlin
BEGIN:DAYLIGHT
TZOFFSETFROM:+0100
TZOFFSETTO:+0200
TZNAME:CEST
DTSTART:20200329T010000
RRULE:FREQ=YEARLY;INTERVAL=1;BYDAY=-1SU;BYMONTH=3
END:DAYLIGHT
BEGIN:STANDARD
TZOFFSETFROM:+0200
TZOFFSETTO:+0100
TZNAME:CET
DTSTART:20201025T010000
RRULE:FREQ=YEARLY;INTERVAL=1;BYDAY=-1SU;BYMONTH=10
END:STANDARD
END:VTIMEZONE
BEGIN:VEVENT
DTSTAMP:20260423T233300Z
DTSTART:20260923T173000Z
DTEND:20260923T193000Z
LOCATION:Laeiszhalle Kleiner Saal
SUMMARY:International Mendelssohn Festival Hamburg 2026
DESCRIPTION:Besetzung\nMark Gothóni: Violine\nNiklas Schmidt: Violoncello
 \nArto Noras: Violoncello\nMichel Lethiec: Klarinette\nJuhani Lagerspetz: 
 Klavier\n\nProgramm\nFelix Mendelssohn Bartholdy\nLieder ohne Worte op. 3
 8/6 »Duetto«\nLied ohne Worte A-Dur op. 62/6 »Frühlingslied«\nLieder
  ohne Worte op. 19b%6 »Venezianisches Gondellied«\nLieder ohne Worte op
 . 67/4 »Spinnerlied«\nCarl Maria von Weber\nSonate für Violine und Kla
 vier Nr. 6 C-Dur op. 10\nFelix Mendelssohn Bartholdy\nKlaviertrio c-Moll 
 op. 66\n– Pause – \nAntonín Dvořák\nLargo / aus: Sinfonie Nr. 9 e-
 Moll op. 95 »Aus der Neuen Welt«\nRobert Schumann\nFünf Stücke im Vol
 kston für Violoncello und Klavier op. 102\nNadia Boulanger\nTrois Pièce
 s für Violoncello und Klavier\nLudwig van Beethoven\nFinale / aus: Klavie
 rtrio B-Dur op. 11 »Gassenhauertrio«
UID:event28823@Elbphilharmonie.de
URL:https://www.elbphilharmonie.de/de/programm/international-mendelssohn-f
 estival-hamburg-2026/28823
END:VEVENT
END:VCALENDAR
