BEGIN:VCALENDAR
METHOD:PUBLISH
CALSCALE:GREGORIAN
PRODID:Elbphilharmonie
VERSION:2.0
BEGIN:VTIMEZONE
TZID:Europe/Berlin
BEGIN:DAYLIGHT
TZOFFSETFROM:+0100
TZOFFSETTO:+0200
TZNAME:CEST
DTSTART:20200329T010000
RRULE:FREQ=YEARLY;INTERVAL=1;BYDAY=-1SU;BYMONTH=3
END:DAYLIGHT
BEGIN:STANDARD
TZOFFSETFROM:+0200
TZOFFSETTO:+0100
TZNAME:CET
DTSTART:20201025T010000
RRULE:FREQ=YEARLY;INTERVAL=1;BYDAY=-1SU;BYMONTH=10
END:STANDARD
END:VTIMEZONE
BEGIN:VEVENT
DTSTAMP:20260423T151400Z
DTSTART:20260920T173000Z
DTEND:20260920T193000Z
LOCATION:Elbphilharmonie Kleiner Saal
SUMMARY:International Mendelssohn Festival Hamburg 2026
DESCRIPTION:Besetzung\nJiyoon Lee: Violine\nMatthias Lingenfelder: Violine
 \nAnna Kreetta Gribajcevic: Viola\nNiklas Schmidt: Violoncello\nJens Bomha
 rdt: Kontrabass\nShion Ota: Klavier\nAnnika Treutler: Klavier\n\nProgramm\
 nFelix Mendelssohn Bartholdy\nFantasia fis-Moll op. 28 »Sonate écossais
 e«\nLied ohne Worte fis-Moll op. 67/2\nIgnaz Jan Paderewski\nMelodie Nr.
  2 Ges-Dur op. 16\nBéla Bartók\nDrei Burlesken Sz 47\nMaurice Ravel\nLa
  valse / Poème chorégraphique (Fassung für Klavier)\n– Pause – \nLu
 dwig van Beethoven\nKonzert für Klavier und Orchester Nr. 5 Es-Dur op. 7
 3
UID:event28822@Elbphilharmonie.de
URL:https://www.elbphilharmonie.de/de/programm/international-mendelssohn-f
 estival-hamburg-2026/28822
END:VEVENT
END:VCALENDAR
