BEGIN:VCALENDAR
METHOD:PUBLISH
CALSCALE:GREGORIAN
PRODID:Elbphilharmonie
VERSION:2.0
BEGIN:VTIMEZONE
TZID:Europe/Berlin
BEGIN:DAYLIGHT
TZOFFSETFROM:+0100
TZOFFSETTO:+0200
TZNAME:CEST
DTSTART:20200329T010000
RRULE:FREQ=YEARLY;INTERVAL=1;BYDAY=-1SU;BYMONTH=3
END:DAYLIGHT
BEGIN:STANDARD
TZOFFSETFROM:+0200
TZOFFSETTO:+0100
TZNAME:CET
DTSTART:20201025T010000
RRULE:FREQ=YEARLY;INTERVAL=1;BYDAY=-1SU;BYMONTH=10
END:STANDARD
END:VTIMEZONE
BEGIN:VEVENT
DTSTAMP:20260423T152800Z
DTSTART:20260916T173000Z
DTEND:20260916T193000Z
LOCATION:Laeiszhalle Kleiner Saal
SUMMARY:International Mendelssohn Festival Hamburg 2026
DESCRIPTION:Besetzung\nTalich Quartet\nJan Talich: Violine\nRoman Patočka
 : Violine\nRadim Sedmidubský: Viola\nMichal Kaňka: Violoncello\nSophia J
 affé: Violine\nMaria Kliegel: Violoncello\nJulian Bliss: Klarinette\nAnni
 ka Treutler: Klavier\nHubert Rutkowski: Klavier\n\nProgramm\nCarl Maria vo
 n Weber\nAufforderung zum Tanze op. 65\nFelix Mendelssohn Bartholdy\nVier
  Stücke für Streichquartett Es-Dur op. 81\nRobert Schumann\nStudien fü
 r den Pedal-Flügel / Sechs Stücke in kanonischer Form op. 56\n– Pause
  – \nFelix Mendelssohn Bartholdy\nLieder ohne Worte op. 53\nCarl Maria 
 von Weber\nKlarinettenquintett B-Dur op. 34
UID:event28821@Elbphilharmonie.de
URL:https://www.elbphilharmonie.de/de/programm/international-mendelssohn-f
 estival-hamburg-2026/28821
END:VEVENT
END:VCALENDAR
