BEGIN:VCALENDAR
METHOD:PUBLISH
CALSCALE:GREGORIAN
PRODID:Elbphilharmonie
VERSION:2.0
BEGIN:VTIMEZONE
TZID:Europe/Berlin
BEGIN:DAYLIGHT
TZOFFSETFROM:+0100
TZOFFSETTO:+0200
TZNAME:CEST
DTSTART:20200329T010000
RRULE:FREQ=YEARLY;INTERVAL=1;BYDAY=-1SU;BYMONTH=3
END:DAYLIGHT
BEGIN:STANDARD
TZOFFSETFROM:+0200
TZOFFSETTO:+0100
TZNAME:CET
DTSTART:20201025T010000
RRULE:FREQ=YEARLY;INTERVAL=1;BYDAY=-1SU;BYMONTH=10
END:STANDARD
END:VTIMEZONE
BEGIN:VEVENT
DTSTAMP:20260423T233200Z
DTSTART:20261205T190000Z
DTEND:20261205T211500Z
LOCATION:Elbphilharmonie Großer Saal
SUMMARY:Hong Kong Philharmonic Orchestra / Martin Helmchen / Tarmo Peltoko
 ski
DESCRIPTION:Besetzung\nHong Kong Philharmonic Orchestra\nMartin Helmchen: 
 Klavier\nTarmo Peltokoski: Klavier und Dirigent\n\nProgramm\nYao Chen\nWal
 tz of the Rolling Giants\nCamille Saint-Saëns\nLe carnaval des animaux (D
 er Karneval der Tiere) / Grande fantaisie zoologique\n– Pause – \nRich
 ard Wagner\nThe Ring / An Orchestral Adventure (Arrangement: Henk de Vlieg
 er)
UID:event28169@Elbphilharmonie.de
URL:https://www.elbphilharmonie.de/de/programm/hong-kong-philharmonic-orch
 estra-martin-helmchen-tarmo-peltokoski/28169
END:VEVENT
END:VCALENDAR
